BEGIN:VCALENDAR
VERSION:2.0
PRODID:-//Frecuencia Azul - ECPv6.15.20//NONSGML v1.0//EN
CALSCALE:GREGORIAN
METHOD:PUBLISH
X-WR-CALNAME:Frecuencia Azul
X-ORIGINAL-URL:https://www.frecuenciaazul.com
X-WR-CALDESC:Eventos para Frecuencia Azul
REFRESH-INTERVAL;VALUE=DURATION:PT1H
X-Robots-Tag:noindex
X-PUBLISHED-TTL:PT1H
BEGIN:VTIMEZONE
TZID:America/Monterrey
BEGIN:STANDARD
TZOFFSETFROM:-0600
TZOFFSETTO:-0600
TZNAME:CST
DTSTART:20250101T000000
END:STANDARD
END:VTIMEZONE
BEGIN:VEVENT
DTSTART;TZID=America/Monterrey:20261207T190000
DTEND;TZID=America/Monterrey:20261207T213000
DTSTAMP:20260422T163712
CREATED:20251226T235554Z
LAST-MODIFIED:20260208T024331Z
UID:10000051-1796670000-1796679000@www.frecuenciaazul.com
SUMMARY:Curso de Tarot Egipcio Evolutivo
DESCRIPTION:Curso Tarot Egipcio Evolutivo\nNuestro Curso de Tarot Egipcio Evolutivo en linea es perfecto para personas profundas y espirituales como tú. 🌿 Exploraremos los arcanos mayores como símbolos de creación y procesos del alma\, y aprenderás a hacer lecturas profundas y espirituales comprendiendo:\n– Procesos del alma\n– Vidas pasadas\n– Karmas y retos\n– Relaciones al nivel del alma\n– Reflexión y movimiento de energía con cada carta 🌈 \nIncluye meditaciones\, pinturas y dinámicas para entrar profundo 😌. \nDuración: 5 meses\nInicio: 9 de Febrero\nHorario: Lunes a las 7:00 p.m.\nLugar: Monterrey\, presencial \nInscribete y aprovecha el precio de Pronto Pago\nInformes: jandael@frecuenciaazul.com Whatsapp 81 2080 9099
URL:https://www.frecuenciaazul.com/evento/curso-tarot-egipcio-evolutivo/2026-12-07/
LOCATION:Frecuencia Azul\, Sta. Claudia 1339\, Guadalupe\, Nuevo León\, 67129\, Mexico
CATEGORIES:Diplomado
ATTACH;FMTTYPE=image/jpeg:https://www.frecuenciaazul.com/wp-content/uploads/frecuenciaazul-jandael-eventos_2026-tarot-egipcio-evolutivo.jpg
ORGANIZER;CN="Jan Dael":MAILTO:jandael@frecuenciaazul.com
GEO:25.7053537;-100.2330217
X-APPLE-STRUCTURED-LOCATION;VALUE=URI;X-ADDRESS=Frecuencia Azul Sta. Claudia 1339 Guadalupe Nuevo León 67129 Mexico;X-APPLE-RADIUS=500;X-TITLE=Sta. Claudia 1339:geo:-100.2330217,25.7053537
END:VEVENT
BEGIN:VEVENT
DTSTART;TZID=America/Monterrey:20261214T190000
DTEND;TZID=America/Monterrey:20261214T213000
DTSTAMP:20260422T163712
CREATED:20251226T235554Z
LAST-MODIFIED:20260208T024331Z
UID:10000052-1797274800-1797283800@www.frecuenciaazul.com
SUMMARY:Curso de Tarot Egipcio Evolutivo
DESCRIPTION:Curso Tarot Egipcio Evolutivo\nNuestro Curso de Tarot Egipcio Evolutivo en linea es perfecto para personas profundas y espirituales como tú. 🌿 Exploraremos los arcanos mayores como símbolos de creación y procesos del alma\, y aprenderás a hacer lecturas profundas y espirituales comprendiendo:\n– Procesos del alma\n– Vidas pasadas\n– Karmas y retos\n– Relaciones al nivel del alma\n– Reflexión y movimiento de energía con cada carta 🌈 \nIncluye meditaciones\, pinturas y dinámicas para entrar profundo 😌. \nDuración: 5 meses\nInicio: 9 de Febrero\nHorario: Lunes a las 7:00 p.m.\nLugar: Monterrey\, presencial \nInscribete y aprovecha el precio de Pronto Pago\nInformes: jandael@frecuenciaazul.com Whatsapp 81 2080 9099
URL:https://www.frecuenciaazul.com/evento/curso-tarot-egipcio-evolutivo/2026-12-14/
LOCATION:Frecuencia Azul\, Sta. Claudia 1339\, Guadalupe\, Nuevo León\, 67129\, Mexico
CATEGORIES:Diplomado
ATTACH;FMTTYPE=image/jpeg:https://www.frecuenciaazul.com/wp-content/uploads/frecuenciaazul-jandael-eventos_2026-tarot-egipcio-evolutivo.jpg
ORGANIZER;CN="Jan Dael":MAILTO:jandael@frecuenciaazul.com
GEO:25.7053537;-100.2330217
X-APPLE-STRUCTURED-LOCATION;VALUE=URI;X-ADDRESS=Frecuencia Azul Sta. Claudia 1339 Guadalupe Nuevo León 67129 Mexico;X-APPLE-RADIUS=500;X-TITLE=Sta. Claudia 1339:geo:-100.2330217,25.7053537
END:VEVENT
BEGIN:VEVENT
DTSTART;TZID=America/Monterrey:20261221T190000
DTEND;TZID=America/Monterrey:20261221T213000
DTSTAMP:20260422T163712
CREATED:20251226T235554Z
LAST-MODIFIED:20260208T024331Z
UID:10000053-1797879600-1797888600@www.frecuenciaazul.com
SUMMARY:Curso de Tarot Egipcio Evolutivo
DESCRIPTION:Curso Tarot Egipcio Evolutivo\nNuestro Curso de Tarot Egipcio Evolutivo en linea es perfecto para personas profundas y espirituales como tú. 🌿 Exploraremos los arcanos mayores como símbolos de creación y procesos del alma\, y aprenderás a hacer lecturas profundas y espirituales comprendiendo:\n– Procesos del alma\n– Vidas pasadas\n– Karmas y retos\n– Relaciones al nivel del alma\n– Reflexión y movimiento de energía con cada carta 🌈 \nIncluye meditaciones\, pinturas y dinámicas para entrar profundo 😌. \nDuración: 5 meses\nInicio: 9 de Febrero\nHorario: Lunes a las 7:00 p.m.\nLugar: Monterrey\, presencial \nInscribete y aprovecha el precio de Pronto Pago\nInformes: jandael@frecuenciaazul.com Whatsapp 81 2080 9099
URL:https://www.frecuenciaazul.com/evento/curso-tarot-egipcio-evolutivo/2026-12-21/
LOCATION:Frecuencia Azul\, Sta. Claudia 1339\, Guadalupe\, Nuevo León\, 67129\, Mexico
CATEGORIES:Diplomado
ATTACH;FMTTYPE=image/jpeg:https://www.frecuenciaazul.com/wp-content/uploads/frecuenciaazul-jandael-eventos_2026-tarot-egipcio-evolutivo.jpg
ORGANIZER;CN="Jan Dael":MAILTO:jandael@frecuenciaazul.com
GEO:25.7053537;-100.2330217
X-APPLE-STRUCTURED-LOCATION;VALUE=URI;X-ADDRESS=Frecuencia Azul Sta. Claudia 1339 Guadalupe Nuevo León 67129 Mexico;X-APPLE-RADIUS=500;X-TITLE=Sta. Claudia 1339:geo:-100.2330217,25.7053537
END:VEVENT
BEGIN:VEVENT
DTSTART;TZID=America/Monterrey:20261228T190000
DTEND;TZID=America/Monterrey:20261228T213000
DTSTAMP:20260422T163712
CREATED:20251226T235554Z
LAST-MODIFIED:20260208T024331Z
UID:10000054-1798484400-1798493400@www.frecuenciaazul.com
SUMMARY:Curso de Tarot Egipcio Evolutivo
DESCRIPTION:Curso Tarot Egipcio Evolutivo\nNuestro Curso de Tarot Egipcio Evolutivo en linea es perfecto para personas profundas y espirituales como tú. 🌿 Exploraremos los arcanos mayores como símbolos de creación y procesos del alma\, y aprenderás a hacer lecturas profundas y espirituales comprendiendo:\n– Procesos del alma\n– Vidas pasadas\n– Karmas y retos\n– Relaciones al nivel del alma\n– Reflexión y movimiento de energía con cada carta 🌈 \nIncluye meditaciones\, pinturas y dinámicas para entrar profundo 😌. \nDuración: 5 meses\nInicio: 9 de Febrero\nHorario: Lunes a las 7:00 p.m.\nLugar: Monterrey\, presencial \nInscribete y aprovecha el precio de Pronto Pago\nInformes: jandael@frecuenciaazul.com Whatsapp 81 2080 9099
URL:https://www.frecuenciaazul.com/evento/curso-tarot-egipcio-evolutivo/2026-12-28/
LOCATION:Frecuencia Azul\, Sta. Claudia 1339\, Guadalupe\, Nuevo León\, 67129\, Mexico
CATEGORIES:Diplomado
ATTACH;FMTTYPE=image/jpeg:https://www.frecuenciaazul.com/wp-content/uploads/frecuenciaazul-jandael-eventos_2026-tarot-egipcio-evolutivo.jpg
ORGANIZER;CN="Jan Dael":MAILTO:jandael@frecuenciaazul.com
GEO:25.7053537;-100.2330217
X-APPLE-STRUCTURED-LOCATION;VALUE=URI;X-ADDRESS=Frecuencia Azul Sta. Claudia 1339 Guadalupe Nuevo León 67129 Mexico;X-APPLE-RADIUS=500;X-TITLE=Sta. Claudia 1339:geo:-100.2330217,25.7053537
END:VEVENT
END:VCALENDAR