BEGIN:VCALENDAR
VERSION:2.0
PRODID:-//Frecuencia Azul - ECPv6.15.20//NONSGML v1.0//EN
CALSCALE:GREGORIAN
METHOD:PUBLISH
X-ORIGINAL-URL:https://www.frecuenciaazul.com
X-WR-CALDESC:Eventos para Frecuencia Azul
REFRESH-INTERVAL;VALUE=DURATION:PT1H
X-Robots-Tag:noindex
X-PUBLISHED-TTL:PT1H
BEGIN:VTIMEZONE
TZID:America/Monterrey
BEGIN:STANDARD
TZOFFSETFROM:-0600
TZOFFSETTO:-0600
TZNAME:CST
DTSTART:20250101T000000
END:STANDARD
END:VTIMEZONE
BEGIN:VEVENT
DTSTART;VALUE=DATE:20260918
DTEND;VALUE=DATE:20261006
DTSTAMP:20260419T194955
CREATED:20251227T174106Z
LAST-MODIFIED:20260308T200640Z
UID:10000082-1789689600-1791244799@www.frecuenciaazul.com
SUMMARY:Viaje Místico a Egipto: Responde al Llamado de las Pirámides
DESCRIPTION:🌍 Embárcate en una aventura extraordinaria donde la energía de Egipto te envuelve en sus misterios. Este viaje es para aquellos que sienten un llamado profundo\, no solo a lo turístico\, sino a explorar cada rincón de un lugar lleno de historia y espiritualidad. \n🗝 Guiado por Jan Dael\, maestra de energía\, estarás acompañado por guías egipcios que hablan español\, quienes te llevarán a conocer los secretos de las pirámides y otros puntos sagrados. \n🌿 Visitarás a un gurú perfumero\, guardián de tradiciones ancestrales\, y a un sanador experto en remedios antiguos egipcios. Te sumergirás en la vibrante energía del Cairo\, explorarás Luxor\, Asuán y el majestuoso Abu Simbel. \n⛰ Cerramos el viaje en el Monte Sinaí\, seguido de una estancia inolvidable en las aguas del Mar Rojo. Este no es solo un viaje; es una experiencia transformadora que resonará en tu vida para siempre. \n💳 Puedes comenzar a pagar por mes hasta agosto. ¡No pierdas la oportunidad de vivir esta experiencia única! Reserva tu lugar y responde al llamado de Egipto. \nInformes: jandael@frecuenciaazul.com\nWhatsapp 81 2080 9099 \n 
URL:https://www.frecuenciaazul.com/evento/viaje-mistico-a-egipto-responde-al-llamado-de-las-piramides/
CATEGORIES:Viajes
ATTACH;FMTTYPE=image/png:https://www.frecuenciaazul.com/wp-content/uploads/cropped-Jan-Frecuencia-Azul.png
ORGANIZER;CN="Jan Dael":MAILTO:jandael@frecuenciaazul.com
END:VEVENT
BEGIN:VEVENT
DTSTART;TZID=America/Monterrey:20260928T190000
DTEND;TZID=America/Monterrey:20260928T213000
DTSTAMP:20260419T194955
CREATED:20251226T235554Z
LAST-MODIFIED:20260208T024331Z
UID:10000041-1790622000-1790631000@www.frecuenciaazul.com
SUMMARY:Curso de Tarot Egipcio Evolutivo
DESCRIPTION:Curso Tarot Egipcio Evolutivo\nNuestro Curso de Tarot Egipcio Evolutivo en linea es perfecto para personas profundas y espirituales como tú. 🌿 Exploraremos los arcanos mayores como símbolos de creación y procesos del alma\, y aprenderás a hacer lecturas profundas y espirituales comprendiendo:\n– Procesos del alma\n– Vidas pasadas\n– Karmas y retos\n– Relaciones al nivel del alma\n– Reflexión y movimiento de energía con cada carta 🌈 \nIncluye meditaciones\, pinturas y dinámicas para entrar profundo 😌. \nDuración: 5 meses\nInicio: 9 de Febrero\nHorario: Lunes a las 7:00 p.m.\nLugar: Monterrey\, presencial \nInscribete y aprovecha el precio de Pronto Pago\nInformes: jandael@frecuenciaazul.com Whatsapp 81 2080 9099
URL:https://www.frecuenciaazul.com/evento/curso-tarot-egipcio-evolutivo/2026-09-28/
LOCATION:Frecuencia Azul\, Sta. Claudia 1339\, Guadalupe\, Nuevo León\, 67129\, Mexico
CATEGORIES:Diplomado
ATTACH;FMTTYPE=image/jpeg:https://www.frecuenciaazul.com/wp-content/uploads/frecuenciaazul-jandael-eventos_2026-tarot-egipcio-evolutivo.jpg
ORGANIZER;CN="Jan Dael":MAILTO:jandael@frecuenciaazul.com
GEO:25.7053537;-100.2330217
X-APPLE-STRUCTURED-LOCATION;VALUE=URI;X-ADDRESS=Frecuencia Azul Sta. Claudia 1339 Guadalupe Nuevo León 67129 Mexico;X-APPLE-RADIUS=500;X-TITLE=Sta. Claudia 1339:geo:-100.2330217,25.7053537
END:VEVENT
END:VCALENDAR